BEGIN:VCALENDAR
VERSION:2.0
PRODID:-//Northern Indiana ASHRAE Chapter - ECPv6.15.17.1//NONSGML v1.0//EN
CALSCALE:GREGORIAN
METHOD:PUBLISH
X-WR-CALNAME:Northern Indiana ASHRAE Chapter
X-ORIGINAL-URL:https://noindashrae.com
X-WR-CALDESC:Events for Northern Indiana ASHRAE Chapter
REFRESH-INTERVAL;VALUE=DURATION:PT1H
X-Robots-Tag:noindex
X-PUBLISHED-TTL:PT1H
BEGIN:VTIMEZONE
TZID:America/New_York
BEGIN:DAYLIGHT
TZOFFSETFROM:-0500
TZOFFSETTO:-0400
TZNAME:EDT
DTSTART:20230312T070000
END:DAYLIGHT
BEGIN:STANDARD
TZOFFSETFROM:-0400
TZOFFSETTO:-0500
TZNAME:EST
DTSTART:20231105T060000
END:STANDARD
BEGIN:DAYLIGHT
TZOFFSETFROM:-0500
TZOFFSETTO:-0400
TZNAME:EDT
DTSTART:20240310T070000
END:DAYLIGHT
BEGIN:STANDARD
TZOFFSETFROM:-0400
TZOFFSETTO:-0500
TZNAME:EST
DTSTART:20241103T060000
END:STANDARD
BEGIN:DAYLIGHT
TZOFFSETFROM:-0500
TZOFFSETTO:-0400
TZNAME:EDT
DTSTART:20250309T070000
END:DAYLIGHT
BEGIN:STANDARD
TZOFFSETFROM:-0400
TZOFFSETTO:-0500
TZNAME:EST
DTSTART:20251102T060000
END:STANDARD
END:VTIMEZONE
BEGIN:VEVENT
DTSTART;TZID=America/New_York:20240215T113000
DTEND;TZID=America/New_York:20240215T130000
DTSTAMP:20260423T172122
CREATED:20240205T222906Z
LAST-MODIFIED:20240620T194009Z
UID:10645-1707996600-1708002000@noindashrae.com
SUMMARY:2024 February Lunch
DESCRIPTION:« All Events\n 				\n				\n				\n				\n					This event has passed. \n				\n				\n				\n				\n					\n	2024 February Lunch				\n				\n				\n				\n					\n		\n			February 15\n\n	\n\n	  @  \n\n\n11:30 am\n\n		\n\n\n\n	\n	  -  \n\n1:00 pm\n\n\n\n	\n				\n				\n				\n				\n					\nFree 				\n				\n					\n		\n					\n		\n				\n						\n					\n			\n						\n				\n					Heat Pump Chillers to Replace Boilers				\n				\n					\n		\n					\n		\n				\n						\n					\n			\n						\n				\n									Decarbonization entails various strategies to reduce direct and indirect carbon use related to mechanical systems – and electrification of heating is a key pillar in this effort. This presentation will detail how vapor compression chillers can be utilized to recover or source heat from air and water to replace fossil-fuel based boilers which are the incumbent source of heat for many buildings. You will learn about heat pump fundamentals\, calculation of COP and its relation to heating cost\, system sizing recommendations\, and common equipment arrangements. 								\n				\n				\n				\n					Speaker: Mihir Nandkeolyar				\n				\n				\n				\n									Mihir Nandkeolyar is the Channel Manager for YORK Heat Pumps and Chillers at Johnson Controls\, in Canada and the Midwestern United States. In prior roles\, he has lead Chiller Applications Engineering teams for both North America and the Middle East. He has been with Johnson Controls for over 10 years primarily in the chiller product team. Mihir is an ASHRAE member and co-author of the ASHRAE position document on Climate Change. 								\n				\n				\n				\n					Sponsor				\n				\n				\n						\n					\n			\n						\n				\n									This lunch presentation is sponsored by Mechanical Solutions Indiana 								\n				\n					\n		\n				\n			\n						\n				\n																														\n				\n					\n		\n					\n		\n					\n		\n					\n		\n				\n						\n					\n			\n						\n						\n					\n			\n						\n				\n					\n	\n\n	Categories:	\n		Chapter Meetings\, South Bend Area	\n\n				\n				\n					\n		\n				\n			\n						\n				\n					\n	\n	Brad White\n	\n	\n\n	Phone:\n					\n						\n	 \n\n\n	\n\n	Website: \n\n\n	\n	Email:\n					\n			bwhite@alliarch.com			\n	 \n\n\n\n				\n				\n					\n		\n					\n		\n				\n						\n					\n			\n						\n				\n					\n				\n				\n	\n	Potawatomi Zoo\n	\n	\n\n500 S Greenlawn Ave\n	\n		\n		South Bend\,\n\n	Indiana\n\n	46615\n\n\n\n\n\n	+ Google Map \n\n\n	\n					\n			574-235-9800			\n	 \n\n\n	\n	View Venue Website \n\n\n\n	\n\n\n\n		\n	\n				\n				\n					\n		\n					\n		\n				\n						\n					\n			\n						\n				\n					\n	\n		\n\n	\n	Add to calendar	\n		\n	\n\n		\n			\n									\n	Google Calendar\n\n									\n	iCalendar\n\n									\n	Outlook 365\n\n									\n	Outlook Live\n\n							\n		\n\n		\n	\n\n				\n				\n					\n		\n					\n		\n				\n						\n					\n			\n						\n				\n					\n	\n		\n\n				2024 February Meeting - Heat Pump Chillers	\n\n\n		\n	\n		2024 February Dinner
URL:https://noindashrae.com/event/2024-february-lunch/
LOCATION:Potawatomi Zoo\, 500 S Greenlawn Ave\, South Bend\, Indiana\, 46615
CATEGORIES:Chapter Meetings,South Bend Area
ORGANIZER;CN="Brad White":MAILTO:bwhite@alliarch.com
END:VEVENT
END:VCALENDAR